BEGIN:VCALENDAR
VERSION:2.0
PRODID:DPCALENDAR
CALSCALE:GREGORIAN
BEGIN:VTIMEZONE
TZID:America/New_York
X-MICROSOFT-CDO-TZID:10
BEGIN:STANDARD
DTSTART:20251102T060000
TZOFFSETFROM:-0400
TZOFFSETTO:-0500
TZNAME:EST
END:STANDARD
BEGIN:DAYLIGHT
DTSTART:20260308T070000
TZOFFSETFROM:-0500
TZOFFSETTO:-0400
TZNAME:EDT
END:DAYLIGHT
BEGIN:STANDARD
DTSTART:20261101T060000
TZOFFSETFROM:-0400
TZOFFSETTO:-0500
TZNAME:EST
END:STANDARD
END:VTIMEZONE
X-WR-TIMEZONE:America/New_York
BEGIN:VEVENT
DTSTART;TZID=America/New_York:20161005T090000
DTEND;TZID=America/New_York:20161005T113000
UID:55C4D5F8-902F-46A1-A917-9692ACCC83FD
SUMMARY:PM Freinet
DTSTAMP:20161112T023917Z
DESCRIPTION:
X-ALT-DESC;FMTTYPE=text/html:
LAST-MODIFIED:20161112T024553Z
X-ACCESS:1
X-HITS:0
X-URL:
X-COLOR:201E5E
END:VEVENT
BEGIN:VEVENT
DTSTART;TZID=America/New_York:20161108T080000
DTEND;TZID=America/New_York:20161108T103000
UID:A1C5DAA3-E97C-42AB-A1B5-23AF8F3D01BB
SUMMARY:PM Freinet
DTSTAMP:20161112T023917Z
DESCRIPTION:
X-ALT-DESC;FMTTYPE=text/html:
LAST-MODIFIED:20161112T024708Z
X-ACCESS:1
X-HITS:0
X-URL:
X-COLOR:201E5E
END:VEVENT
BEGIN:VEVENT
DTSTART;TZID=America/New_York:20161129T080000
DTEND;TZID=America/New_York:20161129T103000
UID:A40D7134-FD98-4042-96F4-1DEA2FF14784
SUMMARY:PM Freinet
DTSTAMP:20161112T023917Z
DESCRIPTION:
X-ALT-DESC;FMTTYPE=text/html:
LAST-MODIFIED:20161112T024723Z
X-ACCESS:1
X-HITS:0
X-URL:
X-COLOR:201E5E
END:VEVENT
BEGIN:VEVENT
DTSTART;VALUE=DATE:20170117
DTEND;VALUE=DATE:20170118
UID:11AC51F3-F8EA-4FB0-B342-B61684D67529
SUMMARY:PM Freinet YP
DTSTAMP:20161112T023917Z
DESCRIPTION:
X-ALT-DESC;FMTTYPE=text/html:
LAST-MODIFIED:20161214T032901Z
X-ACCESS:1
X-HITS:37
X-URL:
X-COLOR:201E5E
END:VEVENT
BEGIN:VEVENT
DTSTART;VALUE=DATE:20170207
DTEND;VALUE=DATE:20170208
UID:BA246490-287F-415B-910B-3A38536A1C00
SUMMARY:PM Freinet YP
DTSTAMP:20161112T023917Z
DESCRIPTION:
X-ALT-DESC;FMTTYPE=text/html:
LAST-MODIFIED:20161214T032854Z
X-ACCESS:1
X-HITS:22
X-URL:
X-COLOR:201E5E
END:VEVENT
BEGIN:VEVENT
DTSTART;VALUE=DATE:20170316
DTEND;VALUE=DATE:20170317
UID:C94DF5F3-4BBD-4C99-B008-AEDDB9862FF5
SUMMARY:PM Freinet YP
DTSTAMP:20161112T023917Z
DESCRIPTION:
X-ALT-DESC;FMTTYPE=text/html:
LAST-MODIFIED:20161214T032840Z
X-ACCESS:1
X-HITS:32
X-URL:
X-COLOR:201E5E
END:VEVENT
BEGIN:VEVENT
DTSTART;VALUE=DATE:20170405
DTEND;VALUE=DATE:20170406
UID:AEC9C4B9-7BA7-46E6-9305-476A6B15B3AF
SUMMARY:PM Freinet YP
DTSTAMP:20161112T023917Z
DESCRIPTION:
X-ALT-DESC;FMTTYPE=text/html:
LAST-MODIFIED:20161214T032834Z
X-ACCESS:1
X-HITS:41
X-URL:
X-COLOR:201E5E
END:VEVENT
BEGIN:VEVENT
DTSTART;VALUE=DATE:20170427
DTEND;VALUE=DATE:20170428
UID:0E28893D-7433-475E-B1DF-F09917DC2D19
SUMMARY:PM Freinet YP
DTSTAMP:20161112T023917Z
DESCRIPTION:
X-ALT-DESC;FMTTYPE=text/html:
LAST-MODIFIED:20161214T032828Z
X-ACCESS:1
X-HITS:36
X-URL:
X-COLOR:201E5E
END:VEVENT
BEGIN:VEVENT
DTSTART;VALUE=DATE:20170518
DTEND;VALUE=DATE:20170519
UID:16DCD3A3-F1F1-4F58-BB35-542612394D91
SUMMARY:PM Freinet YP
DTSTAMP:20161112T023917Z
DESCRIPTION:
X-ALT-DESC;FMTTYPE=text/html:
LAST-MODIFIED:20161214T032821Z
X-ACCESS:1
X-HITS:37
X-URL:
X-COLOR:201E5E
END:VEVENT
BEGIN:VEVENT
DTSTART;VALUE=DATE:20170608
DTEND;VALUE=DATE:20170609
UID:148FA7E4-48C1-47C9-8974-09406D8ECEC0
SUMMARY:PM Freinet YP
DTSTAMP:20161112T023917Z
DESCRIPTION:
X-ALT-DESC;FMTTYPE=text/html:
LAST-MODIFIED:20161214T032815Z
X-ACCESS:1
X-HITS:34
X-URL:
X-COLOR:201E5E
END:VEVENT
BEGIN:VEVENT
DTSTART;TZID=America/New_York:20181108T123000
DTEND;TZID=America/New_York:20181108T153000
UID:E5F46F97-3B75-465E-8A00-4CBC3A7156D3
SUMMARY:Après-midi Freinet
DTSTAMP:20181031T180532Z
DESCRIPTION:
X-ALT-DESC;FMTTYPE=text/html:
LOCATION:boulevard des Chutes 945\, G1E 2C8 Ville de Québec\, Québec\, Canada
GEO:0.00000000;0.00000000
LAST-MODIFIED:20181104T134617Z
X-ACCESS:1
X-HITS:491
X-URL:
X-COLOR:201E5E
END:VEVENT
BEGIN:VEVENT
DTSTART;TZID=America/New_York:20190129T123000
DTEND;TZID=America/New_York:20190129T153000
UID:25B500B3-201C-40F9-9F7B-358A33AC155A
SUMMARY:Après-midi Freinet
DTSTAMP:20181101T003532Z
DESCRIPTION:
X-ALT-DESC;FMTTYPE=text/html:
LOCATION:boulevard des Chutes 945\, G1E 2C8 Ville de Québec\, Québec\, Canada
GEO:0.00000000;0.00000000
LAST-MODIFIED:20181104T134559Z
X-ACCESS:1
X-HITS:499
X-URL:
X-COLOR:201E5E
END:VEVENT
BEGIN:VEVENT
DTSTART;TZID=America/New_York:20190410T123000
DTEND;TZID=America/New_York:20190410T153000
UID:A098EDDC-6680-4248-8386-9D25FAB83113
SUMMARY:Après-midi Freinet
DTSTAMP:20181101T003704Z
DESCRIPTION:
X-ALT-DESC;FMTTYPE=text/html:
LOCATION:boulevard des Chutes 945\, G1E 2C8 Ville de Québec\, Québec\, Canada
GEO:0.00000000;0.00000000
LAST-MODIFIED:20181104T134545Z
X-ACCESS:1
X-HITS:597
X-URL:
X-COLOR:201E5E
END:VEVENT
BEGIN:VEVENT
DTSTART;TZID=America/New_York:20190611T123000
DTEND;TZID=America/New_York:20190611T153000
UID:934A6E0D-7E89-4138-BD16-D0A92325CF6D
SUMMARY:Après-midi Freinet
DTSTAMP:20181101T003805Z
DESCRIPTION:
X-ALT-DESC;FMTTYPE=text/html:
LOCATION:boulevard des Chutes 945\, G1E 2C8 Ville de Québec\, Québec\, Canada
GEO:0.00000000;0.00000000
LAST-MODIFIED:20181104T134534Z
X-ACCESS:1
X-HITS:613
X-URL:
X-COLOR:201E5E
END:VEVENT
BEGIN:VEVENT
DTSTART;VALUE=DATE:20191111
DTEND;VALUE=DATE:20191112
UID:BE998A99-258A-4444-B638-18FC514B7A0B
SUMMARY:Après-midi Freinet
DTSTAMP:20190705T224902Z
DESCRIPTION:
X-ALT-DESC;FMTTYPE=text/html:
LOCATION:boulevard des Chutes 945\, G1E 2C8 Ville de Québec\, Québec\, Canada
GEO:0.00000000;0.00000000
X-ACCESS:1
X-HITS:612
X-URL:
X-COLOR:201E5E
END:VEVENT
BEGIN:VEVENT
DTSTART;VALUE=DATE:20200117
DTEND;VALUE=DATE:20200118
UID:3BD49E79-A9E0-4F97-96D3-B0B507C010B0
SUMMARY:Après-midi Freinet
DTSTAMP:20190706T030708Z
DESCRIPTION:
X-ALT-DESC;FMTTYPE=text/html:
LOCATION:boulevard des Chutes 945\, G1E 2C8 Ville de Québec\, Québec\, Canada
GEO:0.00000000;0.00000000
LAST-MODIFIED:20190706T032122Z
X-ACCESS:1
X-HITS:529
X-URL:
X-COLOR:201E5E
END:VEVENT
BEGIN:VEVENT
DTSTART;VALUE=DATE:20200227
DTEND;VALUE=DATE:20200228
UID:C66852B7-272A-4FFC-9F30-3B0F9B6A3C52
SUMMARY:Après-midi Freinet
DTSTAMP:20190706T031505Z
DESCRIPTION:
X-ALT-DESC;FMTTYPE=text/html:
LOCATION:boulevard des Chutes 945\, G1E 2C8 Ville de Québec\, Québec\, Canada
GEO:0.00000000;0.00000000
LAST-MODIFIED:20190706T032324Z
X-ACCESS:1
X-HITS:669
X-URL:
X-COLOR:201E5E
END:VEVENT
BEGIN:VEVENT
DTSTART;VALUE=DATE:20200401
DTEND;VALUE=DATE:20200402
UID:6D44B5BF-F203-4D46-80CD-562A49079692
SUMMARY:Après-midi Freinet
DTSTAMP:20190706T033257Z
DESCRIPTION:
X-ALT-DESC;FMTTYPE=text/html:
LOCATION:boulevard des Chutes 945\, G1E 2C8 Ville de Québec\, Québec\, Canada
GEO:0.00000000;0.00000000
X-ACCESS:1
X-HITS:534
X-URL:
X-COLOR:201E5E
END:VEVENT
BEGIN:VEVENT
DTSTART;VALUE=DATE:20200604
DTEND;VALUE=DATE:20200605
UID:F98E92B0-61B4-4CA7-A95B-376B1ED2F02B
SUMMARY:Après-midi Freinet
DTSTAMP:20190706T034203Z
DESCRIPTION:
X-ALT-DESC;FMTTYPE=text/html:
LOCATION:boulevard des Chutes 945\, G1E 2C8 Ville de Québec\, Québec\, Canada
GEO:0.00000000;0.00000000
X-ACCESS:1
X-HITS:497
X-URL:
X-COLOR:201E5E
END:VEVENT
BEGIN:VEVENT
DTSTART;VALUE=DATE:20210120
DTEND;VALUE=DATE:20210121
UID:5AF5BA03-9D6A-4C54-9C2E-C0002844C8A1
SUMMARY:Après-midi Freinet
DTSTAMP:20201211T134315Z
DESCRIPTION:
X-ALT-DESC;FMTTYPE=text/html:
X-ACCESS:1
X-HITS:394
X-URL:
X-COLOR:201E5E
END:VEVENT
BEGIN:VEVENT
DTSTART;VALUE=DATE:20210422
DTEND;VALUE=DATE:20210423
UID:8BF24AB7-2B42-4921-8F4E-6697FB920532
SUMMARY:Après-midi Freinet
DTSTAMP:20201211T135010Z
DESCRIPTION:
X-ALT-DESC;FMTTYPE=text/html:
X-ACCESS:1
X-HITS:510
X-URL:
X-COLOR:201E5E
END:VEVENT
BEGIN:VEVENT
DTSTART;VALUE=DATE:20211005
DTEND;VALUE=DATE:20211006
UID:07772A86-1812-4E50-9D8F-E222B0C0D6F3
SUMMARY:Après-midi Freinet
DTSTAMP:20210831T014347Z
DESCRIPTION:
X-ALT-DESC;FMTTYPE=text/html:
LAST-MODIFIED:20210831T014709Z
X-ACCESS:1
X-HITS:376
X-URL:
X-COLOR:201E5E
END:VEVENT
BEGIN:VEVENT
DTSTART;VALUE=DATE:20211103
DTEND;VALUE=DATE:20211104
UID:A18754C1-3578-4102-960C-E4026E46688A
SUMMARY:Après-midi Freinet
DTSTAMP:20210831T014759Z
DESCRIPTION:
X-ALT-DESC;FMTTYPE=text/html:
X-ACCESS:1
X-HITS:312
X-URL:
X-COLOR:201E5E
END:VEVENT
BEGIN:VEVENT
DTSTART;VALUE=DATE:20211123
DTEND;VALUE=DATE:20211124
UID:228479EE-4FD5-4B90-A622-AF4A916DFC81
SUMMARY:Après-midi Freinet
DTSTAMP:20210831T014917Z
DESCRIPTION:
X-ALT-DESC;FMTTYPE=text/html:
X-ACCESS:1
X-HITS:307
X-URL:
X-COLOR:201E5E
END:VEVENT
BEGIN:VEVENT
DTSTART;VALUE=DATE:20211214
DTEND;VALUE=DATE:20211215
UID:FDEADA13-83CE-4CE3-8C67-F15175BD513F
SUMMARY:Après-midi Freinet
DTSTAMP:20211201T151529Z
DESCRIPTION:
X-ALT-DESC;FMTTYPE=text/html:
X-ACCESS:1
X-HITS:274
X-URL:
X-COLOR:201E5E
END:VEVENT
BEGIN:VEVENT
DTSTART;VALUE=DATE:20220209
DTEND;VALUE=DATE:20220210
UID:AB8F51ED-D3F4-46CA-BD1E-2F3A65405CB0
SUMMARY:Après-midi Freinet
DTSTAMP:20220125T231845Z
DESCRIPTION:
X-ALT-DESC;FMTTYPE=text/html:
X-ACCESS:1
X-HITS:230
X-URL:
X-COLOR:201E5E
END:VEVENT
BEGIN:VEVENT
DTSTART;VALUE=DATE:20220322
DTEND;VALUE=DATE:20220323
UID:6CE20F35-41ED-4963-A136-922C2B219AD7
SUMMARY:Après-midi Freinet
DTSTAMP:20220125T231952Z
DESCRIPTION:
X-ALT-DESC;FMTTYPE=text/html:
X-ACCESS:1
X-HITS:308
X-URL:
X-COLOR:201E5E
END:VEVENT
BEGIN:VEVENT
DTSTART;VALUE=DATE:20220413
DTEND;VALUE=DATE:20220414
UID:611F03D0-590E-4521-8F21-46BA92F4DCB8
SUMMARY:Après-midi Freinet
DTSTAMP:20220125T232822Z
DESCRIPTION:
X-ALT-DESC;FMTTYPE=text/html:
X-ACCESS:1
X-HITS:260
X-URL:
X-COLOR:201E5E
END:VEVENT
BEGIN:VEVENT
DTSTART;VALUE=DATE:20220511
DTEND;VALUE=DATE:20220512
UID:8A5BE08A-941E-4A66-95AA-47853E0D848C
SUMMARY:Après-midi Freinet
DTSTAMP:20220125T233120Z
DESCRIPTION:
X-ALT-DESC;FMTTYPE=text/html:
X-ACCESS:1
X-HITS:248
X-URL:
X-COLOR:201E5E
END:VEVENT
BEGIN:VEVENT
DTSTART;VALUE=DATE:20220609
DTEND;VALUE=DATE:20220610
UID:C5990251-A04C-4EA3-942C-FBDA3F0C3832
SUMMARY:Après-midi Freinet
DTSTAMP:20220125T233540Z
DESCRIPTION:
X-ALT-DESC;FMTTYPE=text/html:
X-ACCESS:1
X-HITS:284
X-URL:
X-COLOR:201E5E
END:VEVENT
BEGIN:VEVENT
DTSTART;VALUE=DATE:20221103
DTEND;VALUE=DATE:20221104
UID:79BCF474-A75E-4889-9674-304A756A1F14
SUMMARY:Soirées d’information admission 2023-2024
DTSTAMP:20220907T011446Z
DESCRIPTION:
X-ALT-DESC;FMTTYPE=text/html:
X-ACCESS:1
X-HITS:321
X-URL:
X-COLOR:201E5E
END:VEVENT
BEGIN:VEVENT
DTSTART;VALUE=DATE:20231023
DTEND;VALUE=DATE:20231024
UID:E7311542-2BB3-44E8-9E21-91620EA75150
SUMMARY:Après-midi Freinet
DTSTAMP:20231002T140624Z
DESCRIPTION:
X-ALT-DESC;FMTTYPE=text/html:
LAST-MODIFIED:20231002T145353Z
X-ACCESS:1
X-HITS:201
X-URL:
X-COLOR:201E5E
END:VEVENT
BEGIN:VEVENT
DTSTART;VALUE=DATE:20231120
DTEND;VALUE=DATE:20231121
UID:3456215B-108C-468C-844A-3D84CCFC5BFF
SUMMARY:Après-midi Freinet
DTSTAMP:20231002T143921Z
DESCRIPTION:
X-ALT-DESC;FMTTYPE=text/html:
LAST-MODIFIED:20231002T145445Z
X-ACCESS:1
X-HITS:322
X-URL:
X-COLOR:201E5E
END:VEVENT
BEGIN:VEVENT
DTSTART;VALUE=DATE:20231215
DTEND;VALUE=DATE:20231216
UID:2B029852-FF8A-42AC-A5C1-24CEACA88A05
SUMMARY:Après-midi Freinet
DTSTAMP:20231002T144047Z
DESCRIPTION:
X-ALT-DESC;FMTTYPE=text/html:
LAST-MODIFIED:20231002T145428Z
X-ACCESS:1
X-HITS:346
X-URL:
X-COLOR:201E5E
END:VEVENT
BEGIN:VEVENT
DTSTART;VALUE=DATE:20240125
DTEND;VALUE=DATE:20240126
UID:E5196057-DE95-4B9E-A09C-EC6C36D65828
SUMMARY:Après-midi Freinet
DTSTAMP:20231002T144457Z
DESCRIPTION:
X-ALT-DESC;FMTTYPE=text/html:
LAST-MODIFIED:20231002T145505Z
X-ACCESS:1
X-HITS:201
X-URL:
X-COLOR:201E5E
END:VEVENT
BEGIN:VEVENT
DTSTART;VALUE=DATE:20240222
DTEND;VALUE=DATE:20240223
UID:324EA0E8-EEFE-45E1-85EF-947EF6A19594
SUMMARY:Après-midi Freinet
DTSTAMP:20231002T144640Z
DESCRIPTION:
X-ALT-DESC;FMTTYPE=text/html:
LAST-MODIFIED:20231002T145522Z
X-ACCESS:1
X-HITS:326
X-URL:
X-COLOR:201E5E
END:VEVENT
BEGIN:VEVENT
DTSTART;VALUE=DATE:20240327
DTEND;VALUE=DATE:20240328
UID:8EBD1E35-239E-476C-8C5F-91558694C5BE
SUMMARY:Après-midi Freinet
DTSTAMP:20231002T144815Z
DESCRIPTION:
X-ALT-DESC;FMTTYPE=text/html:
LAST-MODIFIED:20231002T145541Z
X-ACCESS:1
X-HITS:452
X-URL:
X-COLOR:201E5E
END:VEVENT
BEGIN:VEVENT
DTSTART;VALUE=DATE:20240425
DTEND;VALUE=DATE:20240426
UID:C4021EB2-0E16-4268-BA65-E0531FF6C12B
SUMMARY:Après-midi Freinet
DTSTAMP:20231002T144959Z
DESCRIPTION:
X-ALT-DESC;FMTTYPE=text/html:
X-ACCESS:1
X-HITS:306
X-URL:
X-COLOR:201E5E
END:VEVENT
BEGIN:VEVENT
DTSTART;VALUE=DATE:20240511
DTEND;VALUE=DATE:20240512
UID:437DC9AC-4649-41C9-A26F-6F835A4284FD
SUMMARY:Après-midi Freinet
DTSTAMP:20231002T145216Z
DESCRIPTION:
X-ALT-DESC;FMTTYPE=text/html:
X-ACCESS:1
X-HITS:328
X-URL:
X-COLOR:201E5E
END:VEVENT
BEGIN:VEVENT
DTSTART;VALUE=DATE:20240527
DTEND;VALUE=DATE:20240528
UID:0C8B201B-3515-4FB8-B3AE-CE4B04DC96EC
SUMMARY:Après-midi Freinet
DTSTAMP:20231002T145120Z
DESCRIPTION:
X-ALT-DESC;FMTTYPE=text/html:
X-ACCESS:1
X-HITS:280
X-URL:
X-COLOR:201E5E
END:VEVENT
BEGIN:VEVENT
DTSTART;VALUE=DATE:20250929
DTEND;VALUE=DATE:20250930
UID:4B2DDFAB-3D03-40F2-B6E2-DF66A5804C37
SUMMARY:Après-midi Freinet
DTSTAMP:20250915T191419Z
DESCRIPTION:
X-ALT-DESC;FMTTYPE=text/html:
X-ACCESS:1
X-HITS:191
X-URL:
X-COLOR:201E5E
END:VEVENT
BEGIN:VEVENT
DTSTART;VALUE=DATE:20251024
DTEND;VALUE=DATE:20251025
UID:3ADB0E4E-6C45-4C38-A482-CDF6C10206E5
SUMMARY:Après-midi Freinet
DTSTAMP:20250915T192116Z
DESCRIPTION:
X-ALT-DESC;FMTTYPE=text/html:
X-ACCESS:1
X-HITS:301
X-URL:
X-COLOR:201E5E
END:VEVENT
BEGIN:VEVENT
DTSTART;VALUE=DATE:20251117
DTEND;VALUE=DATE:20251118
UID:4B6CFB58-8AC5-4B4C-A922-B2A331137193
SUMMARY:Après-midi Freinet
DTSTAMP:20250915T192206Z
DESCRIPTION:
X-ALT-DESC;FMTTYPE=text/html:
X-ACCESS:1
X-HITS:347
X-URL:
X-COLOR:201E5E
END:VEVENT
BEGIN:VEVENT
DTSTART;VALUE=DATE:20251215
DTEND;VALUE=DATE:20251216
UID:B73477DA-CB3E-460F-AC49-E2C8F6AF3712
SUMMARY:Après-midi Freinet
DTSTAMP:20250915T192336Z
DESCRIPTION:
X-ALT-DESC;FMTTYPE=text/html:
X-ACCESS:1
X-HITS:369
X-URL:
X-COLOR:201E5E
END:VEVENT
BEGIN:VEVENT
DTSTART;VALUE=DATE:20260126
DTEND;VALUE=DATE:20260127
UID:C779E07A-BA08-483C-A3CB-D6F8EB29D1DF
SUMMARY:Après-midi Freinet
DTSTAMP:20250915T192457Z
DESCRIPTION:
X-ALT-DESC;FMTTYPE=text/html:
X-ACCESS:1
X-HITS:354
X-URL:
X-COLOR:201E5E
END:VEVENT
BEGIN:VEVENT
DTSTART;VALUE=DATE:20260217
DTEND;VALUE=DATE:20260218
UID:A66160A4-BE0D-473F-98AB-1C80E61A7C39
SUMMARY:Après-midi Freinet
DTSTAMP:20250915T192546Z
DESCRIPTION:
X-ALT-DESC;FMTTYPE=text/html:
X-ACCESS:1
X-HITS:400
X-URL:
X-COLOR:201E5E
END:VEVENT
BEGIN:VEVENT
DTSTART;VALUE=DATE:20260311
DTEND;VALUE=DATE:20260312
UID:B448B023-686D-4A58-9FE7-804FEA522188
SUMMARY:Après-midi Freinet
DTSTAMP:20250915T192743Z
DESCRIPTION:
X-ALT-DESC;FMTTYPE=text/html:
X-ACCESS:1
X-HITS:289
X-URL:
X-COLOR:201E5E
END:VEVENT
BEGIN:VEVENT
DTSTART;VALUE=DATE:20260422
DTEND;VALUE=DATE:20260423
UID:6C771756-3564-4C7A-A650-137F71314990
SUMMARY:Après-midi Freinet
DTSTAMP:20250915T192913Z
DESCRIPTION:
X-ALT-DESC;FMTTYPE=text/html:
X-ACCESS:1
X-HITS:320
X-URL:
X-COLOR:201E5E
END:VEVENT
BEGIN:VEVENT
DTSTART;VALUE=DATE:20260512
DTEND;VALUE=DATE:20260513
UID:E5DF5B01-C36A-4BBC-A73C-1E01BAF5CA4A
SUMMARY:Après-midi Freinet
DTSTAMP:20250915T192959Z
DESCRIPTION:
X-ALT-DESC;FMTTYPE=text/html:
X-ACCESS:1
X-HITS:261
X-URL:
X-COLOR:201E5E
END:VEVENT
END:VCALENDAR