BEGIN:VCALENDAR
VERSION:2.0
PRODID:DPCALENDAR
CALSCALE:GREGORIAN
BEGIN:VTIMEZONE
TZID:America/New_York
X-MICROSOFT-CDO-TZID:10
BEGIN:STANDARD
DTSTART:20251102T060000
TZOFFSETFROM:-0400
TZOFFSETTO:-0500
TZNAME:EST
END:STANDARD
BEGIN:DAYLIGHT
DTSTART:20260308T070000
TZOFFSETFROM:-0500
TZOFFSETTO:-0400
TZNAME:EDT
END:DAYLIGHT
BEGIN:STANDARD
DTSTART:20261101T060000
TZOFFSETFROM:-0400
TZOFFSETTO:-0500
TZNAME:EST
END:STANDARD
END:VTIMEZONE
X-WR-TIMEZONE:America/New_York
BEGIN:VEVENT
DTSTART;TZID=America/New_York:20160926T150000
DTEND;TZID=America/New_York:20160926T153000
UID:B86B2889-A1E3-4957-88B0-E8B6CF4B9945
SUMMARY:Conseil d'établissement
DTSTAMP:20161112T022339Z
DESCRIPTION:
X-ALT-DESC;FMTTYPE=text/html:
LOCATION:boulevard des Chutes 945\, G1E 2C8 Ville de Québec\, Québec\, Canada
GEO:0.00000000;0.00000000
LAST-MODIFIED:20161112T022351Z
X-ACCESS:1
X-HITS:0
X-URL:
X-COLOR:DB9D0B
END:VEVENT
BEGIN:VEVENT
DTSTART;TZID=America/New_York:20161107T140000
DTEND;TZID=America/New_York:20161107T160000
UID:2DD14C59-3813-44BB-8517-DF9C0766124E
SUMMARY:Conseil d'établissement (2)
DTSTAMP:20161112T022339Z
DESCRIPTION:
X-ALT-DESC;FMTTYPE=text/html:
LOCATION:Rue des Loutres 7240\, G1G 1B1 Ville de Québec\, Québec\, Canada
GEO:46.88881500;-71.29181400
LAST-MODIFIED:20161112T022351Z
X-ACCESS:1
X-HITS:0
X-URL:
X-COLOR:DB9D0B
END:VEVENT
BEGIN:VEVENT
DTSTART;TZID=America/New_York:20161219T191500
DTEND;TZID=America/New_York:20161219T210000
UID:9A71247B-5574-4D44-984B-2F9C86988CDC
SUMMARY:Conseil d'établissement (3)
DTSTAMP:20161112T022339Z
DESCRIPTION:
X-ALT-DESC;FMTTYPE=text/html:
LOCATION:boulevard des Chutes 945\, G1E 2C8 Ville de Québec\, Québec\, Canada
GEO:0.00000000;0.00000000
LAST-MODIFIED:20161214T013811Z
X-ACCESS:1
X-HITS:3
X-URL:
X-COLOR:DB9D0B
END:VEVENT
BEGIN:VEVENT
DTSTART;TZID=America/New_York:20170123T191500
DTEND;TZID=America/New_York:20170123T211500
UID:6F103845-DB37-4EC2-9C99-BB41AA696FE0
SUMMARY:Conseil d'établissement (4) ANNULÉ
DTSTAMP:20161112T022339Z
DESCRIPTION:
X-ALT-DESC;FMTTYPE=text/html:
LOCATION:Rue des Loutres 7240\, G1G 1B1 Ville de Québec\, Québec\, Canada
GEO:46.88881500;-71.29181400
LAST-MODIFIED:20170119T151032Z
X-ACCESS:1
X-HITS:35
X-URL:
X-COLOR:DB9D0B
END:VEVENT
BEGIN:VEVENT
DTSTART;TZID=America/New_York:20170227T191500
DTEND;TZID=America/New_York:20170227T211500
UID:85C83917-1B46-405F-8026-816B78859F10
SUMMARY:Conseil d'établissement (5)
DTSTAMP:20161112T022339Z
DESCRIPTION:
X-ALT-DESC;FMTTYPE=text/html:
LOCATION:boulevard des Chutes 945\, G1E 2C8 Ville de Québec\, Québec\, Canada
GEO:0.00000000;0.00000000
LAST-MODIFIED:20161220T193730Z
X-ACCESS:1
X-HITS:33
X-URL:
X-COLOR:DB9D0B
END:VEVENT
BEGIN:VEVENT
DTSTART;TZID=America/New_York:20170403T191500
DTEND;TZID=America/New_York:20170403T211500
UID:E528DA3C-22C8-44A8-8AE3-F858DDB5ACA1
SUMMARY:Conseil d'établissement (6)
DTSTAMP:20161112T022339Z
DESCRIPTION:
X-ALT-DESC;FMTTYPE=text/html:
LOCATION:Rue des Loutres 7240\, G1G 1B1 Ville de Québec\, Québec\, Canada
GEO:46.88881500;-71.29181400
LAST-MODIFIED:20161220T193719Z
X-ACCESS:1
X-HITS:35
X-URL:
X-COLOR:DB9D0B
END:VEVENT
BEGIN:VEVENT
DTSTART;TZID=America/New_York:20170508T191500
DTEND;TZID=America/New_York:20170508T211500
UID:44C52C37-A303-483F-BC5B-AB3914597DFA
SUMMARY:Conseil d'établissement (7)
DTSTAMP:20161112T022339Z
DESCRIPTION:
X-ALT-DESC;FMTTYPE=text/html:
LOCATION:boulevard des Chutes 945\, G1E 2C8 Ville de Québec\, Québec\, Canada
GEO:0.00000000;0.00000000
LAST-MODIFIED:20161220T193702Z
X-ACCESS:1
X-HITS:41
X-URL:
X-COLOR:DB9D0B
END:VEVENT
BEGIN:VEVENT
DTSTART;TZID=America/New_York:20170612T191500
DTEND;TZID=America/New_York:20170612T211500
UID:DCA641E6-F725-4464-8026-16DD8AC817FE
SUMMARY:Conseil d'établissement (8)
DTSTAMP:20161112T022339Z
DESCRIPTION:
X-ALT-DESC;FMTTYPE=text/html:
LOCATION:Rue des Loutres 7240\, G1G 1B1 Ville de Québec\, Québec\, Canada
GEO:46.88881500;-71.29181400
LAST-MODIFIED:20161220T193653Z
X-ACCESS:1
X-HITS:30
X-URL:
X-COLOR:DB9D0B
END:VEVENT
BEGIN:VEVENT
DTSTART;VALUE=DATE:20181203
DTEND;VALUE=DATE:20181204
UID:BD7E3770-6CE9-4A53-8865-C4847A4DE6AC
SUMMARY:Conseil d’établissement
DTSTAMP:20181031T181548Z
DESCRIPTION:
X-ALT-DESC;FMTTYPE=text/html:
LOCATION:boulevard des Chutes 945\, G1E 2C8 Ville de Québec\, Québec\, Canada
GEO:0.00000000;0.00000000
X-ACCESS:1
X-HITS:446
X-URL:
X-COLOR:DB9D0B
END:VEVENT
BEGIN:VEVENT
DTSTART;VALUE=DATE:20190128
DTEND;VALUE=DATE:20190129
UID:61BCEAC8-9F0B-4818-9EBB-A35CE1FD01F7
SUMMARY:Conseil d’établissement
DTSTAMP:20181031T181635Z
DESCRIPTION:
X-ALT-DESC;FMTTYPE=text/html:
LOCATION:Rue des Loutres 7240\, G1G 1B1 Ville de Québec\, Québec\, Canada
GEO:46.88881500;-71.29181400
X-ACCESS:1
X-HITS:473
X-URL:
X-COLOR:DB9D0B
END:VEVENT
BEGIN:VEVENT
DTSTART;VALUE=DATE:20190225
DTEND;VALUE=DATE:20190226
UID:52FDEDA5-1299-4673-A41C-A87FAC3CBEBA
SUMMARY:Conseil d’établissement
DTSTAMP:20181031T181739Z
DESCRIPTION:
X-ALT-DESC;FMTTYPE=text/html:
LOCATION:boulevard des Chutes 945\, G1E 2C8 Ville de Québec\, Québec\, Canada
GEO:0.00000000;0.00000000
X-ACCESS:1
X-HITS:691
X-URL:
X-COLOR:DB9D0B
END:VEVENT
BEGIN:VEVENT
DTSTART;VALUE=DATE:20190408
DTEND;VALUE=DATE:20190409
UID:D45C86AE-8523-468A-80D9-49E8D7850709
SUMMARY:Conseil d’établissement
DTSTAMP:20181031T181820Z
DESCRIPTION:
X-ALT-DESC;FMTTYPE=text/html:
LOCATION:Rue des Loutres 7240\, G1G 1B1 Ville de Québec\, Québec\, Canada
GEO:46.88881500;-71.29181400
X-ACCESS:1
X-HITS:609
X-URL:
X-COLOR:DB9D0B
END:VEVENT
BEGIN:VEVENT
DTSTART;VALUE=DATE:20190513
DTEND;VALUE=DATE:20190514
UID:81EEF2F1-DFA3-4930-ABAD-8B6609E1320C
SUMMARY:Conseil d’établissement
DTSTAMP:20181031T181908Z
DESCRIPTION:
X-ALT-DESC;FMTTYPE=text/html:
LOCATION:boulevard des Chutes 945\, G1E 2C8 Ville de Québec\, Québec\, Canada
GEO:0.00000000;0.00000000
X-ACCESS:1
X-HITS:659
X-URL:
X-COLOR:DB9D0B
END:VEVENT
BEGIN:VEVENT
DTSTART;VALUE=DATE:20190610
DTEND;VALUE=DATE:20190611
UID:DFDE5E95-4BD4-4CC4-BB27-667E62A0B7E4
SUMMARY:Conseil d’établissement
DTSTAMP:20181031T181937Z
DESCRIPTION:
X-ALT-DESC;FMTTYPE=text/html:
LOCATION:Rue des Loutres 7240\, G1G 1B1 Ville de Québec\, Québec\, Canada
GEO:46.88881500;-71.29181400
X-ACCESS:1
X-HITS:647
X-URL:
X-COLOR:DB9D0B
END:VEVENT
BEGIN:VEVENT
DTSTART;VALUE=DATE:20190923
DTEND;VALUE=DATE:20190924
UID:54C156AC-DFF2-4733-9D97-435542E2FC49
SUMMARY:Conseil d’établissement
DTSTAMP:20190706T034734Z
DESCRIPTION:
X-ALT-DESC;FMTTYPE=text/html:
LOCATION:boulevard des Chutes 945\, G1E 2C8 Ville de Québec\, Québec\, Canada
GEO:0.00000000;0.00000000
X-ACCESS:1
X-HITS:433
X-URL:
X-COLOR:DB9D0B
END:VEVENT
BEGIN:VEVENT
DTSTART;VALUE=DATE:20191028
DTEND;VALUE=DATE:20191029
UID:4E902393-EAA0-4AB6-9B99-D32B714D4FE7
SUMMARY:Conseil d’établissement
DTSTAMP:20190706T034922Z
DESCRIPTION:
X-ALT-DESC;FMTTYPE=text/html:
LOCATION:Rue des Loutres 7240\, G1G 1B1 Ville de Québec\, Québec\, Canada
GEO:46.88881500;-71.29181400
X-ACCESS:1
X-HITS:555
X-URL:
X-COLOR:DB9D0B
END:VEVENT
BEGIN:VEVENT
DTSTART;VALUE=DATE:20191202
DTEND;VALUE=DATE:20191203
UID:40C7835F-1D88-42DD-94EC-AB64BB3C4C41
SUMMARY:Conseil d’établissement
DTSTAMP:20190706T034955Z
DESCRIPTION:
X-ALT-DESC;FMTTYPE=text/html:
LOCATION:boulevard des Chutes 945\, G1E 2C8 Ville de Québec\, Québec\, Canada
GEO:0.00000000;0.00000000
X-ACCESS:1
X-HITS:673
X-URL:
X-COLOR:DB9D0B
END:VEVENT
BEGIN:VEVENT
DTSTART;VALUE=DATE:20200127
DTEND;VALUE=DATE:20200128
UID:9975275C-43EE-46E0-BF99-C8246DE0862D
SUMMARY:Conseil d’établissement
DTSTAMP:20190706T035031Z
DESCRIPTION:
X-ALT-DESC;FMTTYPE=text/html:
LOCATION:Rue des Loutres 7240\, G1G 1B1 Ville de Québec\, Québec\, Canada
GEO:46.88881500;-71.29181400
X-ACCESS:1
X-HITS:567
X-URL:
X-COLOR:DB9D0B
END:VEVENT
BEGIN:VEVENT
DTSTART;VALUE=DATE:20200224
DTEND;VALUE=DATE:20200225
UID:80B46FA8-4DF2-42DC-90BC-D827A4BA3D35
SUMMARY:Conseil d’établissement
DTSTAMP:20190706T035124Z
DESCRIPTION:
X-ALT-DESC;FMTTYPE=text/html:
LOCATION:boulevard des Chutes 945\, G1E 2C8 Ville de Québec\, Québec\, Canada
GEO:0.00000000;0.00000000
X-ACCESS:1
X-HITS:597
X-URL:
X-COLOR:DB9D0B
END:VEVENT
BEGIN:VEVENT
DTSTART;VALUE=DATE:20200406
DTEND;VALUE=DATE:20200407
UID:119E0006-1F95-4D09-A9BC-A9D11A81B2DB
SUMMARY:Conseil d’établissement
DTSTAMP:20190706T035202Z
DESCRIPTION:
X-ALT-DESC;FMTTYPE=text/html:
LOCATION:Rue des Loutres 7240\, G1G 1B1 Ville de Québec\, Québec\, Canada
GEO:46.88881500;-71.29181400
X-ACCESS:1
X-HITS:536
X-URL:
X-COLOR:DB9D0B
END:VEVENT
BEGIN:VEVENT
DTSTART;VALUE=DATE:20200511
DTEND;VALUE=DATE:20200512
UID:0958AB62-0A5F-4DD9-8591-DF456A0AF608
SUMMARY:Conseil d’établissement
DTSTAMP:20190706T035238Z
DESCRIPTION:
X-ALT-DESC;FMTTYPE=text/html:
LOCATION:boulevard des Chutes 945\, G1E 2C8 Ville de Québec\, Québec\, Canada
GEO:0.00000000;0.00000000
X-ACCESS:1
X-HITS:592
X-URL:
X-COLOR:DB9D0B
END:VEVENT
BEGIN:VEVENT
DTSTART;VALUE=DATE:20200608
DTEND;VALUE=DATE:20200609
UID:34FB28AE-EA93-478B-A143-16D6954412E4
SUMMARY:Conseil d’établissement
DTSTAMP:20190706T035320Z
DESCRIPTION:
X-ALT-DESC;FMTTYPE=text/html:
LOCATION:Rue des Loutres 7240\, G1G 1B1 Ville de Québec\, Québec\, Canada
GEO:46.88881500;-71.29181400
X-ACCESS:1
X-HITS:538
X-URL:
X-COLOR:DB9D0B
END:VEVENT
BEGIN:VEVENT
DTSTART;VALUE=DATE:20200928
DTEND;VALUE=DATE:20200929
UID:A954892C-81CC-49FA-B8CD-0D96FDC5FE49
SUMMARY:Conseil d’établissement
DTSTAMP:20200922T233551Z
DESCRIPTION:
X-ALT-DESC;FMTTYPE=text/html:
LOCATION:boulevard des Chutes 945\, G1E 2C8 Ville de Québec\, Québec\, Canada
GEO:0.00000000;0.00000000
X-ACCESS:1
X-HITS:308
X-URL:
X-COLOR:DB9D0B
END:VEVENT
BEGIN:VEVENT
DTSTART;VALUE=DATE:20201102
DTEND;VALUE=DATE:20201103
UID:AE597C9F-89DD-418F-857A-BEA8310470DC
SUMMARY:Conseil d’établissement
DTSTAMP:20200922T234606Z
DESCRIPTION:
X-ALT-DESC;FMTTYPE=text/html:
LOCATION:Rue des Loutres 7240\, G1G 1B1 Ville de Québec\, Québec\, Canada
GEO:46.88881500;-71.29181400
X-ACCESS:1
X-HITS:417
X-URL:
X-COLOR:DB9D0B
END:VEVENT
BEGIN:VEVENT
DTSTART;VALUE=DATE:20201130
DTEND;VALUE=DATE:20201201
UID:6CE602E8-6085-4BC5-88F8-AEEBCEF4B3AE
SUMMARY:Conseil d’établissement
DTSTAMP:20200922T234201Z
DESCRIPTION:
X-ALT-DESC;FMTTYPE=text/html:
LOCATION:boulevard des Chutes 945\, G1E 2C8 Ville de Québec\, Québec\, Canada
GEO:0.00000000;0.00000000
X-ACCESS:1
X-HITS:474
X-URL:
X-COLOR:DB9D0B
END:VEVENT
BEGIN:VEVENT
DTSTART;VALUE=DATE:20210125
DTEND;VALUE=DATE:20210126
UID:C275DE53-409F-49C7-9FE8-C8F4AB4BCD26
SUMMARY:Conseil d’établissement
DTSTAMP:20200922T234647Z
DESCRIPTION:
X-ALT-DESC;FMTTYPE=text/html:
LOCATION:Rue des Loutres 7240\, G1G 1B1 Ville de Québec\, Québec\, Canada
GEO:46.88881500;-71.29181400
X-ACCESS:1
X-HITS:552
X-URL:
X-COLOR:DB9D0B
END:VEVENT
BEGIN:VEVENT
DTSTART;VALUE=DATE:20210222
DTEND;VALUE=DATE:20210223
UID:E9EC3CDE-7E74-4DBD-9264-83F9F3C635DD
SUMMARY:Conseil d’établissement
DTSTAMP:20200922T234252Z
DESCRIPTION:
X-ALT-DESC;FMTTYPE=text/html:
LOCATION:boulevard des Chutes 945\, G1E 2C8 Ville de Québec\, Québec\, Canada
GEO:0.00000000;0.00000000
X-ACCESS:1
X-HITS:481
X-URL:
X-COLOR:DB9D0B
END:VEVENT
BEGIN:VEVENT
DTSTART;VALUE=DATE:20210412
DTEND;VALUE=DATE:20210413
UID:5F68AB7F-7638-443B-A006-3C6914C457E5
SUMMARY:Conseil d’établissement
DTSTAMP:20200922T234733Z
DESCRIPTION:
X-ALT-DESC;FMTTYPE=text/html:
LOCATION:Rue des Loutres 7240\, G1G 1B1 Ville de Québec\, Québec\, Canada
GEO:46.88881500;-71.29181400
X-ACCESS:1
X-HITS:442
X-URL:
X-COLOR:DB9D0B
END:VEVENT
BEGIN:VEVENT
DTSTART;VALUE=DATE:20210510
DTEND;VALUE=DATE:20210511
UID:579484E4-A796-4798-990A-A7870D34844E
SUMMARY:Conseil d’établissement
DTSTAMP:20200922T234406Z
DESCRIPTION:
X-ALT-DESC;FMTTYPE=text/html:
LOCATION:boulevard des Chutes 945\, G1E 2C8 Ville de Québec\, Québec\, Canada
GEO:0.00000000;0.00000000
LAST-MODIFIED:20200922T234423Z
X-ACCESS:1
X-HITS:602
X-URL:
X-COLOR:DB9D0B
END:VEVENT
BEGIN:VEVENT
DTSTART;VALUE=DATE:20210607
DTEND;VALUE=DATE:20210608
UID:9AB74E5A-C048-4CE9-8482-06037CB36045
SUMMARY:Conseil d’établissement
DTSTAMP:20200922T234817Z
DESCRIPTION:
X-ALT-DESC;FMTTYPE=text/html:
LOCATION:Rue des Loutres 7240\, G1G 1B1 Ville de Québec\, Québec\, Canada
GEO:46.88881500;-71.29181400
X-ACCESS:1
X-HITS:521
X-URL:
X-COLOR:DB9D0B
END:VEVENT
BEGIN:VEVENT
DTSTART;VALUE=DATE:20220215
DTEND;VALUE=DATE:20220216
UID:6CF13E8A-F981-4C23-BF1D-958E8BE81C9D
SUMMARY:Équipe-École
DTSTAMP:20220125T232104Z
DESCRIPTION:
X-ALT-DESC;FMTTYPE=text/html:
X-ACCESS:1
X-HITS:217
X-URL:
X-COLOR:DB9D0B
END:VEVENT
BEGIN:VEVENT
DTSTART;VALUE=DATE:20220221
DTEND;VALUE=DATE:20220222
UID:D4C1FC01-F078-449F-A5C0-69D93841C850
SUMMARY:Conseil d’établissement
DTSTAMP:20210831T010053Z
DESCRIPTION:
X-ALT-DESC;FMTTYPE=text/html:
LAST-MODIFIED:20220125T232156Z
X-ACCESS:1
X-HITS:300
X-URL:
X-COLOR:DB9D0B
END:VEVENT
BEGIN:VEVENT
DTSTART;VALUE=DATE:20220324
DTEND;VALUE=DATE:20220325
UID:16D91A44-EDF6-43DE-9652-F6D032E89F38
SUMMARY:Équipe-École
DTSTAMP:20220125T232344Z
DESCRIPTION:
X-ALT-DESC;FMTTYPE=text/html:
X-ACCESS:1
X-HITS:273
X-URL:
X-COLOR:DB9D0B
END:VEVENT
BEGIN:VEVENT
DTSTART;VALUE=DATE:20220405
DTEND;VALUE=DATE:20220406
UID:BE55540E-C5E2-4B8D-AD92-EA43EEEE7A90
SUMMARY:Équipe-École
DTSTAMP:20220125T232728Z
DESCRIPTION:
X-ALT-DESC;FMTTYPE=text/html:
X-ACCESS:1
X-HITS:278
X-URL:
X-COLOR:DB9D0B
END:VEVENT
BEGIN:VEVENT
DTSTART;VALUE=DATE:20220512
DTEND;VALUE=DATE:20220513
UID:ACA9CC96-A34F-4D3C-B60F-BDFBB54C302E
SUMMARY:Équipe-École
DTSTAMP:20220125T233157Z
DESCRIPTION:
X-ALT-DESC;FMTTYPE=text/html:
X-ACCESS:1
X-HITS:278
X-URL:
X-COLOR:DB9D0B
END:VEVENT
BEGIN:VEVENT
DTSTART;VALUE=DATE:20220607
DTEND;VALUE=DATE:20220608
UID:1B61777D-0406-4312-81E1-9CADC669CA6B
SUMMARY:Équipe-École
DTSTAMP:20220125T233422Z
DESCRIPTION:
X-ALT-DESC;FMTTYPE=text/html:
X-ACCESS:1
X-HITS:287
X-URL:
X-COLOR:DB9D0B
END:VEVENT
BEGIN:VEVENT
DTSTART;VALUE=DATE:20220926
DTEND;VALUE=DATE:20220927
UID:D4A2B014-6B15-4F47-B179-56C192A2641A
SUMMARY:Conseil d’établissement
DTSTAMP:20220907T011054Z
DESCRIPTION:
X-ALT-DESC;FMTTYPE=text/html:
X-ACCESS:1
X-HITS:165
X-URL:
X-COLOR:DB9D0B
END:VEVENT
BEGIN:VEVENT
DTSTART;VALUE=DATE:20221017
DTEND;VALUE=DATE:20221018
UID:412BCF69-6599-4003-B34A-14D19940C0CC
SUMMARY:Conseil d’établissement
DTSTAMP:20220907T011130Z
DESCRIPTION:
X-ALT-DESC;FMTTYPE=text/html:
X-ACCESS:1
X-HITS:243
X-URL:
X-COLOR:DB9D0B
END:VEVENT
BEGIN:VEVENT
DTSTART;VALUE=DATE:20221112
DTEND;VALUE=DATE:20221113
UID:D074B59C-0724-4FDA-93A1-EBC909E5F41B
SUMMARY:Conseil d’établissement
DTSTAMP:20220907T011223Z
DESCRIPTION:
X-ALT-DESC;FMTTYPE=text/html:
X-ACCESS:1
X-HITS:213
X-URL:
X-COLOR:DB9D0B
END:VEVENT
BEGIN:VEVENT
DTSTART;VALUE=DATE:20231016
DTEND;VALUE=DATE:20231017
UID:7F3A752F-0B50-4ED3-8E52-865028CD776F
SUMMARY:Conseil d’établissement
DTSTAMP:20231002T143544Z
DESCRIPTION:
X-ALT-DESC;FMTTYPE=text/html:
X-ACCESS:1
X-HITS:129
X-URL:
X-COLOR:DB9D0B
END:VEVENT
BEGIN:VEVENT
DTSTART;VALUE=DATE:20231204
DTEND;VALUE=DATE:20231205
UID:E0B62115-B6C4-487D-BBFD-D2D96D61090F
SUMMARY:Conseil d’établissement
DTSTAMP:20231002T143605Z
DESCRIPTION:
X-ALT-DESC;FMTTYPE=text/html:
X-ACCESS:1
X-HITS:246
X-URL:
X-COLOR:DB9D0B
END:VEVENT
BEGIN:VEVENT
DTSTART;VALUE=DATE:20240205
DTEND;VALUE=DATE:20240206
UID:BAC072E2-6B81-4755-89D0-B51133AF5B35
SUMMARY:Conseil d’établissement
DTSTAMP:20231002T143625Z
DESCRIPTION:
X-ALT-DESC;FMTTYPE=text/html:
X-ACCESS:1
X-HITS:270
X-URL:
X-COLOR:DB9D0B
END:VEVENT
BEGIN:VEVENT
DTSTART;VALUE=DATE:20240408
DTEND;VALUE=DATE:20240409
UID:E85F2AC8-4AF6-4936-A1E1-BC4D68CDD57A
SUMMARY:Conseil d’établissement
DTSTAMP:20231002T143644Z
DESCRIPTION:
X-ALT-DESC;FMTTYPE=text/html:
X-ACCESS:1
X-HITS:450
X-URL:
X-COLOR:DB9D0B
END:VEVENT
BEGIN:VEVENT
DTSTART;VALUE=DATE:20240513
DTEND;VALUE=DATE:20240514
UID:E441541B-0801-4D7E-91A4-63E4BEC00304
SUMMARY:Conseil d’établissement
DTSTAMP:20231002T143703Z
DESCRIPTION:
X-ALT-DESC;FMTTYPE=text/html:
X-ACCESS:1
X-HITS:370
X-URL:
X-COLOR:DB9D0B
END:VEVENT
BEGIN:VEVENT
DTSTART;VALUE=DATE:20240610
DTEND;VALUE=DATE:20240611
UID:1F9BCCD3-E5F3-4FDE-8A71-C0E40E0324B9
SUMMARY:Conseil d’établissement
DTSTAMP:20231002T143723Z
DESCRIPTION:
X-ALT-DESC;FMTTYPE=text/html:
X-ACCESS:1
X-HITS:324
X-URL:
X-COLOR:DB9D0B
END:VEVENT
END:VCALENDAR