BEGIN:VCALENDAR
VERSION:2.0
PRODID:DPCALENDAR
CALSCALE:GREGORIAN
BEGIN:VTIMEZONE
TZID:America/New_York
X-MICROSOFT-CDO-TZID:10
BEGIN:STANDARD
DTSTART:20251102T060000
TZOFFSETFROM:-0400
TZOFFSETTO:-0500
TZNAME:EST
END:STANDARD
BEGIN:DAYLIGHT
DTSTART:20260308T070000
TZOFFSETFROM:-0500
TZOFFSETTO:-0400
TZNAME:EDT
END:DAYLIGHT
BEGIN:STANDARD
DTSTART:20261101T060000
TZOFFSETFROM:-0400
TZOFFSETTO:-0500
TZNAME:EST
END:STANDARD
END:VTIMEZONE
X-WR-TIMEZONE:America/New_York
BEGIN:VEVENT
DTSTART;TZID=America/New_York:20161114T160000
DTEND;TZID=America/New_York:20161114T170000
UID:E51FECE1-FA83-4C39-A3A5-BA0CEAFD45E1
SUMMARY:Hockey Yves-Prévost vs St-Édouard
DTSTAMP:20161214T023848Z
DESCRIPTION:
X-ALT-DESC;FMTTYPE=text/html:
X-ACCESS:1
X-HITS:0
X-URL:
X-COLOR:BA1818
END:VEVENT
BEGIN:VEVENT
DTSTART;TZID=America/New_York:20161117T160000
DTEND;TZID=America/New_York:20161117T170000
UID:080FD39F-A9BB-47B6-9A6A-C38DFBCCBCBF
SUMMARY:Impro Cap-Soleil/St-Pierre vs des Loutres
DTSTAMP:20161214T023225Z
DESCRIPTION:
X-ALT-DESC;FMTTYPE=text/html:
LOCATION:Rue des Loutres 7240\, G1G 1B1 Ville de Québec\, Québec\, Canada
GEO:46.88881500;-71.29181400
X-ACCESS:1
X-HITS:0
X-URL:
X-COLOR:BA1818
END:VEVENT
BEGIN:VEVENT
DTSTART;TZID=America/New_York:20161122T160000
DTEND;TZID=America/New_York:20161122T170000
UID:D94FF75F-0F30-466A-A5DD-BAED2E86475B
SUMMARY:Ribambelle vs Yves-Prévost
DTSTAMP:20161214T023921Z
DESCRIPTION:
X-ALT-DESC;FMTTYPE=text/html:
LOCATION:boulevard des Chutes 945\, G1E 2C8 Ville de Québec\, Québec\, Canada
GEO:0.00000000;0.00000000
X-ACCESS:1
X-HITS:0
X-URL:
X-COLOR:BA1818
END:VEVENT
BEGIN:VEVENT
DTSTART;TZID=America/New_York:20161213T160000
DTEND;TZID=America/New_York:20161213T170000
UID:FAF6F755-0BFF-4F44-A880-4F04F5A27F58
SUMMARY:Hockey des Loutres vs Maria-Goretti
DTSTAMP:20161214T023529Z
DESCRIPTION:
X-ALT-DESC;FMTTYPE=text/html:
X-ACCESS:1
X-HITS:0
X-URL:
X-COLOR:BA1818
END:VEVENT
BEGIN:VEVENT
DTSTART;TZID=America/New_York:20161214T160000
DTEND;TZID=America/New_York:20161214T170000
UID:BC8C69BC-D858-4D9C-943A-5E31C22E0D6A
SUMMARY:Impro des Loutres vs Escale/Plateau
DTSTAMP:20161214T015224Z
DESCRIPTION:
X-ALT-DESC;FMTTYPE=text/html:
X-ACCESS:1
X-HITS:1
X-URL:
X-COLOR:BA1818
END:VEVENT
BEGIN:VEVENT
DTSTART;TZID=America/New_York:20161220T160000
DTEND;TZID=America/New_York:20161220T170000
UID:86044817-BFEB-454C-B9DA-0907F0E34318
SUMMARY:Impro Yves-Prévost vs Boischatel
DTSTAMP:20161214T015350Z
DESCRIPTION:
X-ALT-DESC;FMTTYPE=text/html:
X-ACCESS:1
X-HITS:1
X-URL:
X-COLOR:BA1818
END:VEVENT
BEGIN:VEVENT
DTSTART;TZID=America/New_York:20170117T160000
DTEND;TZID=America/New_York:20170117T170000
UID:747C63BD-AA16-4113-A7D4-23D084A88773
SUMMARY:Hockey Chabot vs Yves-Prévost
DTSTAMP:20161214T015451Z
DESCRIPTION:
X-ALT-DESC;FMTTYPE=text/html:
LOCATION:boulevard des Chutes 945\, G1E 2C8 Ville de Québec\, Québec\, Canada
GEO:0.00000000;0.00000000
X-ACCESS:1
X-HITS:35
X-URL:
X-COLOR:BA1818
END:VEVENT
BEGIN:VEVENT
DTSTART;TZID=America/New_York:20170119T160000
DTEND;TZID=America/New_York:20170119T170000
UID:5A7F913D-0FB7-4B58-AF15-7C75B247F8F3
SUMMARY:Impro Yves-Prévost vs des Loutres
DTSTAMP:20161214T015543Z
DESCRIPTION:
X-ALT-DESC;FMTTYPE=text/html:
LOCATION:Rue des Loutres 7240\, G1G 1B1 Ville de Québec\, Québec\, Canada
GEO:46.88881500;-71.29181400
LAST-MODIFIED:20161214T023623Z
X-ACCESS:1
X-HITS:41
X-URL:
X-COLOR:BA1818
END:VEVENT
BEGIN:VEVENT
DTSTART;TZID=America/New_York:20170202T160000
DTEND;TZID=America/New_York:20170202T170000
UID:96DF7C9C-31F2-4834-9A6F-3BF0C08A454B
SUMMARY:Hockey Des Loutres vs Escale/Plateau 1
DTSTAMP:20161214T015543Z
DESCRIPTION:
X-ALT-DESC;FMTTYPE=text/html:
X-ACCESS:1
X-HITS:26
X-URL:
X-COLOR:BA1818
END:VEVENT
BEGIN:VEVENT
DTSTART;TZID=America/New_York:20170207T160000
DTEND;TZID=America/New_York:20170207T170000
UID:A41B583F-2763-40C0-B4E6-7B5A12037B03
SUMMARY:Hockey Petit-Prince vs Yves-Prévost
DTSTAMP:20161214T015543Z
DESCRIPTION:
X-ALT-DESC;FMTTYPE=text/html:
LOCATION:boulevard des Chutes 945\, G1E 2C8 Ville de Québec\, Québec\, Canada
GEO:0.00000000;0.00000000
LAST-MODIFIED:20161214T020341Z
X-ACCESS:1
X-HITS:23
X-URL:
X-COLOR:BA1818
END:VEVENT
BEGIN:VEVENT
DTSTART;TZID=America/New_York:20170208T160000
DTEND;TZID=America/New_York:20170208T170000
UID:B534C130-9107-4D2A-8B0D-77B299133BFE
SUMMARY:Impro Des Loutres vs HDN
DTSTAMP:20161214T015543Z
DESCRIPTION:
X-ALT-DESC;FMTTYPE=text/html:
LAST-MODIFIED:20161214T023704Z
X-ACCESS:1
X-HITS:24
X-URL:
X-COLOR:BA1818
END:VEVENT
BEGIN:VEVENT
DTSTART;TZID=America/New_York:20170221T160000
DTEND;TZID=America/New_York:20170221T170000
UID:10769677-43DF-4FE4-B82B-E3021BF188C3
SUMMARY:Hockey Chabot vs Yves-Prévost
DTSTAMP:20161214T015451Z
DESCRIPTION:
X-ALT-DESC;FMTTYPE=text/html:
LOCATION:boulevard des Chutes 945\, G1E 2C8 Ville de Québec\, Québec\, Canada
GEO:0.00000000;0.00000000
LAST-MODIFIED:20161214T022958Z
X-ACCESS:1
X-HITS:26
X-URL:
X-COLOR:BA1818
END:VEVENT
BEGIN:VEVENT
DTSTART;TZID=America/New_York:20170227T160000
DTEND;TZID=America/New_York:20170227T170000
UID:FBF8E2EB-7078-41FB-A5A9-C0A7BFA887B8
SUMMARY:Hockey Yves-Prévost vs Boischatel
DTSTAMP:20161214T015451Z
DESCRIPTION:167 Rue des Marbres Boischatel, Quebec G0A 1H0 Canada+ Google Map\N** Ce match aura lieu au gymnase du bâtiment Boréal **
X-ALT-DESC;FMTTYPE=text/html:<div><address>167 Rue des Marbres&nbsp;<br />Boischatel,&nbsp;<abbr title="Quebec">Quebec</abbr>&nbsp;G0A 1H0&nbsp;Canada</address><a href="http://maps.google.com/maps?f=q&amp;source=s_q&amp;hl=en&amp;geocode=&amp;q=167+Rue+des+Marbres+Boischatel+Quebec+G0A+1H0+Canada" target="_blank" title="Cliquez pour voir une carte Google Maps">+ Google Map</a></div><p>** Ce match aura lieu au&nbsp;gymnase du bâtiment Boréal **</p>
LAST-MODIFIED:20161214T023100Z
X-ACCESS:1
X-HITS:33
X-URL:
X-COLOR:BA1818
END:VEVENT
BEGIN:VEVENT
DTSTART;TZID=America/New_York:20170228T160000
DTEND;TZID=America/New_York:20170228T170000
UID:A76464F3-21F8-4F3F-AEE9-5F004B1A1381
SUMMARY:Hockey Montagnac vs des Loutres
DTSTAMP:20161214T023745Z
DESCRIPTION:
X-ALT-DESC;FMTTYPE=text/html:
X-ACCESS:1
X-HITS:28
X-URL:
X-COLOR:BA1818
END:VEVENT
BEGIN:VEVENT
DTSTART;VALUE=DATE:20191120
DTEND;VALUE=DATE:20191121
UID:88D00F52-159C-4079-A9E2-A70066220168
SUMMARY:1er bulletin
DTSTAMP:20190706T040323Z
DESCRIPTION:
X-ALT-DESC;FMTTYPE=text/html:
LOCATION:Rue des Loutres 7240\, G1G 1B1 Ville de Québec\, Québec\, Canada\; boulevard des Chutes 945\, G1E 2C8 Ville de Québec\, Québec\, Canada
GEO:46.88881500;-71.29181400
X-ACCESS:1
X-HITS:670
X-URL:
X-COLOR:BA1818
END:VEVENT
BEGIN:VEVENT
DTSTART;VALUE=DATE:20200127
DTEND;VALUE=DATE:20200128
UID:298DDD0F-45B5-4947-9C5D-C357B868E16B
SUMMARY:100e journée
DTSTAMP:20190706T040618Z
DESCRIPTION:
X-ALT-DESC;FMTTYPE=text/html:
LOCATION:Rue des Loutres 7240\, G1G 1B1 Ville de Québec\, Québec\, Canada\; boulevard des Chutes 945\, G1E 2C8 Ville de Québec\, Québec\, Canada
GEO:46.88881500;-71.29181400
X-ACCESS:1
X-HITS:440
X-URL:
X-COLOR:BA1818
END:VEVENT
BEGIN:VEVENT
DTSTART;VALUE=DATE:20200313
DTEND;VALUE=DATE:20200314
UID:CCA49264-0975-47DD-8639-C67239E7D19F
SUMMARY:2e bulletin
DTSTAMP:20190706T040420Z
DESCRIPTION:
X-ALT-DESC;FMTTYPE=text/html:
LOCATION:Rue des Loutres 7240\, G1G 1B1 Ville de Québec\, Québec\, Canada\; boulevard des Chutes 945\, G1E 2C8 Ville de Québec\, Québec\, Canada
GEO:46.88881500;-71.29181400
X-ACCESS:1
X-HITS:378
X-URL:
X-COLOR:BA1818
END:VEVENT
BEGIN:VEVENT
DTSTART;VALUE=DATE:20200630
DTEND;VALUE=DATE:20200701
UID:27C9D4A6-90A6-4DCB-A2D2-88D348CD24F1
SUMMARY:3e bulletin
DTSTAMP:20190706T040458Z
DESCRIPTION:
X-ALT-DESC;FMTTYPE=text/html:
LOCATION:Rue des Loutres 7240\, G1G 1B1 Ville de Québec\, Québec\, Canada\; boulevard des Chutes 945\, G1E 2C8 Ville de Québec\, Québec\, Canada
GEO:46.88881500;-71.29181400
X-ACCESS:1
X-HITS:457
X-URL:
X-COLOR:BA1818
END:VEVENT
BEGIN:VEVENT
DTSTART;VALUE=DATE:20201217
DTEND;VALUE=DATE:20201218
UID:1AC88FA0-C108-4287-812D-949E3D925194
SUMMARY:Journée de classe à distance
DTSTAMP:20201211T140640Z
DESCRIPTION:
X-ALT-DESC;FMTTYPE=text/html:
X-ACCESS:1
X-HITS:263
X-URL:
X-COLOR:BA1818
END:VEVENT
BEGIN:VEVENT
DTSTART;VALUE=DATE:20201218
DTEND;VALUE=DATE:20201219
UID:88B42A85-CE49-45A5-8169-39E028AC6DED
SUMMARY:Journée de classe à distance
DTSTAMP:20201211T140656Z
DESCRIPTION:
X-ALT-DESC;FMTTYPE=text/html:
X-ACCESS:1
X-HITS:264
X-URL:
X-COLOR:BA1818
END:VEVENT
BEGIN:VEVENT
DTSTART;VALUE=DATE:20230125
DTEND;VALUE=DATE:20230126
UID:B62868D4-386B-4D4E-8A90-6DB45BC13FCE
SUMMARY: 100e journée
DTSTAMP:20230118T005852Z
DESCRIPTION:
X-ALT-DESC;FMTTYPE=text/html:
X-ACCESS:1
X-HITS:95
X-URL:
X-COLOR:BA1818
END:VEVENT
BEGIN:VEVENT
DTSTART;VALUE=DATE:20231120
DTEND;VALUE=DATE:20231121
UID:DB6C05AF-A0AE-4EA9-9C40-2798AA3D4F47
SUMMARY:1e bulletin 
DTSTAMP:20231002T143231Z
DESCRIPTION:
X-ALT-DESC;FMTTYPE=text/html:
LAST-MODIFIED:20231002T143410Z
X-ACCESS:1
X-HITS:366
X-URL:
X-COLOR:BA1818
END:VEVENT
BEGIN:VEVENT
DTSTART;VALUE=DATE:20240125
DTEND;VALUE=DATE:20240126
UID:7431F619-3B5F-4D3D-A00B-159354413014
SUMMARY:100e journée
DTSTAMP:20231002T143522Z
DESCRIPTION:
X-ALT-DESC;FMTTYPE=text/html:
X-ACCESS:1
X-HITS:279
X-URL:
X-COLOR:BA1818
END:VEVENT
BEGIN:VEVENT
DTSTART;VALUE=DATE:20240315
DTEND;VALUE=DATE:20240316
UID:817BD63A-6881-4C32-9B7A-D30E9CDC7B79
SUMMARY:2e bulletin
DTSTAMP:20231002T143314Z
DESCRIPTION:
X-ALT-DESC;FMTTYPE=text/html:
X-ACCESS:1
X-HITS:284
X-URL:
X-COLOR:BA1818
END:VEVENT
BEGIN:VEVENT
DTSTART;VALUE=DATE:20240710
DTEND;VALUE=DATE:20240711
UID:2608871C-FCA0-4BC2-B289-C04469506EFF
SUMMARY:3e bulletin
DTSTAMP:20231002T143342Z
DESCRIPTION:
X-ALT-DESC;FMTTYPE=text/html:
X-ACCESS:1
X-HITS:407
X-URL:
X-COLOR:BA1818
END:VEVENT
END:VCALENDAR