BEGIN:VCALENDAR
VERSION:2.0
PRODID:DPCALENDAR
CALSCALE:GREGORIAN
BEGIN:VTIMEZONE
TZID:America/New_York
X-MICROSOFT-CDO-TZID:10
BEGIN:STANDARD
DTSTART:20251102T060000
TZOFFSETFROM:-0400
TZOFFSETTO:-0500
TZNAME:EST
END:STANDARD
BEGIN:DAYLIGHT
DTSTART:20260308T070000
TZOFFSETFROM:-0500
TZOFFSETTO:-0400
TZNAME:EDT
END:DAYLIGHT
BEGIN:STANDARD
DTSTART:20261101T060000
TZOFFSETFROM:-0400
TZOFFSETTO:-0500
TZNAME:EST
END:STANDARD
END:VTIMEZONE
X-WR-TIMEZONE:America/New_York
BEGIN:VEVENT
DTSTART;VALUE=DATE:20161018
DTEND;VALUE=DATE:20161019
UID:A26379E0-5F7C-4A3E-A358-06399E3F9005
SUMMARY:PM Freinet DL
DTSTAMP:20161214T032535Z
DESCRIPTION:
X-ALT-DESC;FMTTYPE=text/html:
X-ACCESS:1
X-HITS:0
X-URL:
X-COLOR:4B54D6
END:VEVENT
BEGIN:VEVENT
DTSTART;VALUE=DATE:20161108
DTEND;VALUE=DATE:20161109
UID:09FA195A-5DDD-4BD8-A9D8-65E48B6F1ABB
SUMMARY:PM Freinet DL
DTSTAMP:20161214T032535Z
DESCRIPTION:
X-ALT-DESC;FMTTYPE=text/html:
LAST-MODIFIED:20161214T032555Z
X-ACCESS:1
X-HITS:0
X-URL:
X-COLOR:4B54D6
END:VEVENT
BEGIN:VEVENT
DTSTART;VALUE=DATE:20161215
DTEND;VALUE=DATE:20161216
UID:C632FBFB-31B5-4D70-A525-20F6AE29B2BB
SUMMARY:PM Freinet DL
DTSTAMP:20161214T032535Z
DESCRIPTION:
X-ALT-DESC;FMTTYPE=text/html:
LAST-MODIFIED:20161214T032612Z
X-ACCESS:1
X-HITS:0
X-URL:
X-COLOR:4B54D6
END:VEVENT
BEGIN:VEVENT
DTSTART;VALUE=DATE:20170117
DTEND;VALUE=DATE:20170118
UID:065C681F-5C48-4793-90F9-05F9E91ED13A
SUMMARY:PM Freinet DL
DTSTAMP:20161214T032535Z
DESCRIPTION:
X-ALT-DESC;FMTTYPE=text/html:
LAST-MODIFIED:20161214T032625Z
X-ACCESS:1
X-HITS:0
X-URL:
X-COLOR:4B54D6
END:VEVENT
BEGIN:VEVENT
DTSTART;VALUE=DATE:20170223
DTEND;VALUE=DATE:20170224
UID:4B033201-C43F-483C-9C10-DBD87F99FF96
SUMMARY:PM Freinet DL
DTSTAMP:20161214T032535Z
DESCRIPTION:
X-ALT-DESC;FMTTYPE=text/html:
LAST-MODIFIED:20161214T032644Z
X-ACCESS:1
X-HITS:1
X-URL:
X-COLOR:4B54D6
END:VEVENT
BEGIN:VEVENT
DTSTART;VALUE=DATE:20170405
DTEND;VALUE=DATE:20170406
UID:2DF271FC-5BE0-481A-B3F4-A4FAD5B1C183
SUMMARY:PM Freinet DL
DTSTAMP:20161214T032535Z
DESCRIPTION:
X-ALT-DESC;FMTTYPE=text/html:
LAST-MODIFIED:20161214T032732Z
X-ACCESS:1
X-HITS:0
X-URL:
X-COLOR:4B54D6
END:VEVENT
BEGIN:VEVENT
DTSTART;VALUE=DATE:20170509
DTEND;VALUE=DATE:20170510
UID:20C3617A-CE8A-43C9-99C2-B04DBC280AA8
SUMMARY:PM Freinet DL
DTSTAMP:20161214T032535Z
DESCRIPTION:
X-ALT-DESC;FMTTYPE=text/html:
LAST-MODIFIED:20161214T032744Z
X-ACCESS:1
X-HITS:0
X-URL:
X-COLOR:4B54D6
END:VEVENT
BEGIN:VEVENT
DTSTART;VALUE=DATE:20170608
DTEND;VALUE=DATE:20170609
UID:4DD169A5-04BC-4D27-94BE-0C13C9DB3D0F
SUMMARY:PM Freinet DL
DTSTAMP:20161214T032535Z
DESCRIPTION:
X-ALT-DESC;FMTTYPE=text/html:
LAST-MODIFIED:20161214T032800Z
X-ACCESS:1
X-HITS:0
X-URL:
X-COLOR:4B54D6
END:VEVENT
BEGIN:VEVENT
DTSTART;TZID=America/New_York:20181108T123000
DTEND;TZID=America/New_York:20181108T153000
UID:8A444A35-9B89-4993-B6CE-04C0AF7C0071
SUMMARY:Après-midi Freinet
DTSTAMP:20181031T180633Z
DESCRIPTION:
X-ALT-DESC;FMTTYPE=text/html:
LOCATION:Rue des Loutres 7240\, G1G 1B1 Ville de Québec\, Québec\, Canada
GEO:46.88881500;-71.29181400
LAST-MODIFIED:20181104T134801Z
X-ACCESS:1
X-HITS:4
X-URL:
X-COLOR:4B54D6
END:VEVENT
BEGIN:VEVENT
DTSTART;TZID=America/New_York:20181213T123000
DTEND;TZID=America/New_York:20181213T153000
UID:6F33988E-3DD4-4BB8-85CD-8E9AB775B39A
SUMMARY:Après-midi Freinet
DTSTAMP:20181101T004219Z
DESCRIPTION:
X-ALT-DESC;FMTTYPE=text/html:
LOCATION:Rue des Loutres 7240\, G1G 1B1 Ville de Québec\, Québec\, Canada
GEO:46.88881500;-71.29181400
LAST-MODIFIED:20181104T134749Z
X-ACCESS:1
X-HITS:3
X-URL:
X-COLOR:4B54D6
END:VEVENT
BEGIN:VEVENT
DTSTART;TZID=America/New_York:20190129T123000
DTEND;TZID=America/New_York:20190129T153000
UID:4BEE81E2-A301-4439-9623-5364D79A44DC
SUMMARY:Après-midi Freinet
DTSTAMP:20181101T004315Z
DESCRIPTION:
X-ALT-DESC;FMTTYPE=text/html:
LOCATION:Rue des Loutres 7240\, G1G 1B1 Ville de Québec\, Québec\, Canada
GEO:46.88881500;-71.29181400
LAST-MODIFIED:20181104T134730Z
X-ACCESS:1
X-HITS:2
X-URL:
X-COLOR:4B54D6
END:VEVENT
BEGIN:VEVENT
DTSTART;TZID=America/New_York:20190221T123000
DTEND;TZID=America/New_York:20190221T153000
UID:FEE8A4F5-72D2-4A52-B22A-3399766FCF0A
SUMMARY:Après-midi Freinet
DTSTAMP:20181101T004429Z
DESCRIPTION:
X-ALT-DESC;FMTTYPE=text/html:
LOCATION:Rue des Loutres 7240\, G1G 1B1 Ville de Québec\, Québec\, Canada
GEO:46.88881500;-71.29181400
LAST-MODIFIED:20181104T134718Z
X-ACCESS:1
X-HITS:1
X-URL:
X-COLOR:4B54D6
END:VEVENT
BEGIN:VEVENT
DTSTART;TZID=America/New_York:20190410T123000
DTEND;TZID=America/New_York:20190410T153000
UID:7F2BA015-66F5-451D-9CC6-CE4CA0D5A88F
SUMMARY:Après-midi Freinet
DTSTAMP:20181101T004513Z
DESCRIPTION:
X-ALT-DESC;FMTTYPE=text/html:
LOCATION:Rue des Loutres 7240\, G1G 1B1 Ville de Québec\, Québec\, Canada
GEO:46.88881500;-71.29181400
LAST-MODIFIED:20181104T134705Z
X-ACCESS:1
X-HITS:1
X-URL:
X-COLOR:4B54D6
END:VEVENT
BEGIN:VEVENT
DTSTART;TZID=America/New_York:20190507T123000
DTEND;TZID=America/New_York:20190507T153000
UID:07E75B71-ADA9-4E06-9AF0-2ABA94674AAB
SUMMARY:Après-midi Freinet
DTSTAMP:20181101T004553Z
DESCRIPTION:
X-ALT-DESC;FMTTYPE=text/html:
LAST-MODIFIED:20181104T134646Z
X-ACCESS:1
X-HITS:1
X-URL:
X-COLOR:4B54D6
END:VEVENT
BEGIN:VEVENT
DTSTART;TZID=America/New_York:20190611T123000
DTEND;TZID=America/New_York:20190611T153000
UID:D83B4188-AB1E-4733-8042-9130D7785CC0
SUMMARY:Après-midi Freinet
DTSTAMP:20181101T004628Z
DESCRIPTION:
X-ALT-DESC;FMTTYPE=text/html:
LOCATION:Rue des Loutres 7240\, G1G 1B1 Ville de Québec\, Québec\, Canada
GEO:46.88881500;-71.29181400
LAST-MODIFIED:20181104T134637Z
X-ACCESS:1
X-HITS:2
X-URL:
X-COLOR:4B54D6
END:VEVENT
BEGIN:VEVENT
DTSTART;VALUE=DATE:20201207
DTEND;VALUE=DATE:20201208
UID:9CBC795D-0ECB-4B34-ACF1-B73486436591
SUMMARY:Après-midi Freinet
DTSTAMP:20201120T192056Z
DESCRIPTION:
X-ALT-DESC;FMTTYPE=text/html:
X-ACCESS:1
X-HITS:3
X-URL:
X-COLOR:4B54D6
END:VEVENT
BEGIN:VEVENT
DTSTART;VALUE=DATE:20210120
DTEND;VALUE=DATE:20210121
UID:9DE115CE-3443-4AA8-918B-21D98E8290AA
SUMMARY:Après-midi Freinet
DTSTAMP:20201120T192235Z
DESCRIPTION:
X-ALT-DESC;FMTTYPE=text/html:
X-ACCESS:1
X-HITS:1
X-URL:
X-COLOR:4B54D6
END:VEVENT
BEGIN:VEVENT
DTSTART;VALUE=DATE:20210215
DTEND;VALUE=DATE:20210216
UID:9ED84300-8005-413D-B2EA-6181D23E725B
SUMMARY:Après-midi Freinet
DTSTAMP:20201120T192304Z
DESCRIPTION:
X-ALT-DESC;FMTTYPE=text/html:
X-ACCESS:1
X-HITS:0
X-URL:
X-COLOR:4B54D6
END:VEVENT
BEGIN:VEVENT
DTSTART;VALUE=DATE:20210325
DTEND;VALUE=DATE:20210326
UID:B9CB0A6E-2A82-408B-ABE1-AE289D1AC213
SUMMARY:Après-midi Freinet
DTSTAMP:20201120T192331Z
DESCRIPTION:
X-ALT-DESC;FMTTYPE=text/html:
X-ACCESS:1
X-HITS:1
X-URL:
X-COLOR:4B54D6
END:VEVENT
BEGIN:VEVENT
DTSTART;VALUE=DATE:20210422
DTEND;VALUE=DATE:20210423
UID:1218ED4B-5D6E-43EB-865D-B785964B234E
SUMMARY:Après-midi Freinet
DTSTAMP:20201120T192408Z
DESCRIPTION:
X-ALT-DESC;FMTTYPE=text/html:
X-ACCESS:1
X-HITS:0
X-URL:
X-COLOR:4B54D6
END:VEVENT
BEGIN:VEVENT
DTSTART;VALUE=DATE:20210518
DTEND;VALUE=DATE:20210519
UID:EFC99326-DC62-4088-B6E4-E5584ABA36CD
SUMMARY:Après-midi Freinet
DTSTAMP:20201120T192428Z
DESCRIPTION:
X-ALT-DESC;FMTTYPE=text/html:
X-ACCESS:1
X-HITS:0
X-URL:
X-COLOR:4B54D6
END:VEVENT
BEGIN:VEVENT
DTSTART;VALUE=DATE:20210610
DTEND;VALUE=DATE:20210611
UID:300D9856-A526-45F1-9DD9-1C65AF8BEA39
SUMMARY:Après-midi Freinet
DTSTAMP:20201120T192450Z
DESCRIPTION:
X-ALT-DESC;FMTTYPE=text/html:
X-ACCESS:1
X-HITS:0
X-URL:
X-COLOR:4B54D6
END:VEVENT
BEGIN:VEVENT
DTSTART;VALUE=DATE:20211008
DTEND;VALUE=DATE:20211009
UID:F268ED28-0044-44B6-B307-43DF84497066
SUMMARY:Après-midi Freinet
DTSTAMP:20210831T014553Z
DESCRIPTION:
X-ALT-DESC;FMTTYPE=text/html:
X-ACCESS:1
X-HITS:3
X-URL:
X-COLOR:4B54D6
END:VEVENT
BEGIN:VEVENT
DTSTART;VALUE=DATE:20211103
DTEND;VALUE=DATE:20211104
UID:5C89E618-F9DC-4A6C-A8F3-70F195BE271B
SUMMARY:Après-midi Freinet
DTSTAMP:20210831T014819Z
DESCRIPTION:
X-ALT-DESC;FMTTYPE=text/html:
X-ACCESS:1
X-HITS:3
X-URL:
X-COLOR:4B54D6
END:VEVENT
BEGIN:VEVENT
DTSTART;VALUE=DATE:20211214
DTEND;VALUE=DATE:20211215
UID:D4FD9730-97A5-4497-A7D4-1629F1DC501B
SUMMARY:Après-midi Freinet
DTSTAMP:20211201T151554Z
DESCRIPTION:
X-ALT-DESC;FMTTYPE=text/html:
LAST-MODIFIED:20211201T151629Z
X-ACCESS:1
X-HITS:0
X-URL:
X-COLOR:4B54D6
END:VEVENT
BEGIN:VEVENT
DTSTART;VALUE=DATE:20220224
DTEND;VALUE=DATE:20220225
UID:64ACD2D1-3F5F-473D-A293-61D61D4C71C8
SUMMARY:Après-midi Freinet
DTSTAMP:20220125T232501Z
DESCRIPTION:
X-ALT-DESC;FMTTYPE=text/html:
X-ACCESS:1
X-HITS:0
X-URL:
X-COLOR:4B54D6
END:VEVENT
BEGIN:VEVENT
DTSTART;VALUE=DATE:20220407
DTEND;VALUE=DATE:20220408
UID:33D17D6F-893C-42E0-871F-8F40D0184D9C
SUMMARY:Après-midi Freinet
DTSTAMP:20220125T233803Z
DESCRIPTION:
X-ALT-DESC;FMTTYPE=text/html:
X-ACCESS:1
X-HITS:13
X-URL:
X-COLOR:4B54D6
END:VEVENT
BEGIN:VEVENT
DTSTART;VALUE=DATE:20220516
DTEND;VALUE=DATE:20220517
UID:BD64AA89-C680-439B-8FDE-3F5ECC321FFE
SUMMARY:Après-midi Freinet
DTSTAMP:20220125T233829Z
DESCRIPTION:
X-ALT-DESC;FMTTYPE=text/html:
X-ACCESS:1
X-HITS:14
X-URL:
X-COLOR:4B54D6
END:VEVENT
BEGIN:VEVENT
DTSTART;VALUE=DATE:20220609
DTEND;VALUE=DATE:20220610
UID:70614D8C-C62F-439C-A8E9-BBEDD0657865
SUMMARY:Après-midi Freinet
DTSTAMP:20220125T233856Z
DESCRIPTION:
X-ALT-DESC;FMTTYPE=text/html:
X-ACCESS:1
X-HITS:31
X-URL:
X-COLOR:4B54D6
END:VEVENT
BEGIN:VEVENT
DTSTART;VALUE=DATE:20221026
DTEND;VALUE=DATE:20221027
UID:8B164A26-35F8-4A32-8FF9-AA4807F517FF
SUMMARY:Soirées d’information admission 2023-2024
DTSTAMP:20220907T011414Z
DESCRIPTION:
X-ALT-DESC;FMTTYPE=text/html:
X-ACCESS:1
X-HITS:12
X-URL:
X-COLOR:4B54D6
END:VEVENT
BEGIN:VEVENT
DTSTART;VALUE=DATE:20250915
DTEND;VALUE=DATE:20250930
UID:1027D296-6D7F-4675-9B03-C0BBC0B1B302
SUMMARY:Après-midi Freinet
DTSTAMP:20250915T191435Z
DESCRIPTION:
X-ALT-DESC;FMTTYPE=text/html:
X-ACCESS:1
X-HITS:0
X-URL:
X-COLOR:4B54D6
END:VEVENT
END:VCALENDAR